BEGIN:VCALENDAR
VERSION:2.0
PRODID:-//Jo Daviess Conservation Foundation - ECPv6.15.20//NONSGML v1.0//EN
CALSCALE:GREGORIAN
METHOD:PUBLISH
X-WR-CALNAME:Jo Daviess Conservation Foundation
X-ORIGINAL-URL:https://jdcf.org
X-WR-CALDESC:Events for Jo Daviess Conservation Foundation
REFRESH-INTERVAL;VALUE=DURATION:PT1H
X-Robots-Tag:noindex
X-PUBLISHED-TTL:PT1H
BEGIN:VTIMEZONE
TZID:UTC
BEGIN:STANDARD
TZOFFSETFROM:+0000
TZOFFSETTO:+0000
TZNAME:UTC
DTSTART:20250101T000000
END:STANDARD
END:VTIMEZONE
BEGIN:VEVENT
DTSTART;TZID=UTC:20260424T180000
DTEND;TZID=UTC:20260424T190000
DTSTAMP:20260419T200552
CREATED:20251218T155808Z
LAST-MODIFIED:20260413T162029Z
UID:10000236-1777053600-1777057200@jdcf.org
SUMMARY:Frog Walk on the Galena River Trail
DESCRIPTION:One of the first signs of spring is the sound of frogs waking up and calling. Join JDCF staff at the Meeker Street Footbridge in downtown Galena for our annual\, family-friendly frog walk. We will head down the Galena River Trail towards Buehler Reserve\, giving everyone a chance to find and catch the frogs themselves! Will it be a spring peeper or a leopard frog? JDCF staff will help you identify what you find\, and have some tadpoles on hand to view the frog life cycle in progress. Subject to weather-related cancellation.  Check back here updates. The Apple River State Bank/First Community Bank of Galena is a proud sponsor of this catch and release event.
URL:https://jdcf.org/event/frog-walk-on-the-galena-river-trail-2/
LOCATION:Meeker Street Footbridge\, 110 Meeker Street\, Galena\, Illinois
ATTACH;FMTTYPE=image/jpeg:https://jdcf.org/wp-content/uploads/2024/02/GreenFrogRM.jpg
END:VEVENT
END:VCALENDAR