BEGIN:VCALENDAR
VERSION:2.0
PRODID:-//Jo Daviess Conservation Foundation - ECPv6.15.20//NONSGML v1.0//EN
CALSCALE:GREGORIAN
METHOD:PUBLISH
X-WR-CALNAME:Jo Daviess Conservation Foundation
X-ORIGINAL-URL:https://jdcf.org
X-WR-CALDESC:Events for Jo Daviess Conservation Foundation
REFRESH-INTERVAL;VALUE=DURATION:PT1H
X-Robots-Tag:noindex
X-PUBLISHED-TTL:PT1H
BEGIN:VTIMEZONE
TZID:UTC
BEGIN:STANDARD
TZOFFSETFROM:+0000
TZOFFSETTO:+0000
TZNAME:UTC
DTSTART:20250101T000000
END:STANDARD
END:VTIMEZONE
BEGIN:VEVENT
DTSTART;TZID=UTC:20260815T200000
DTEND;TZID=UTC:20260815T230000
DTSTAMP:20260420T023630
CREATED:20251229T164242Z
LAST-MODIFIED:20260128T180537Z
UID:10000241-1786824000-1786834800@jdcf.org
SUMMARY:Meteors on the Mound
DESCRIPTION:JDCF invites everyone to Meteors on the Mound for a glimpse of the Perseid meteor shower from atop Horseshoe Mound Preserve\, which is one of the highest points in Jo Daviess County and offers spectacular views of the tristate area from several different outlooks. This is the only time of the year that the preserve is open to the public after dark so it is a special occasion. Suggested donation of $10/person or $25/family. RSVP’s are not required. \nThere will be family-friendly activities for people of all ages as well a presentation by an expert astronomer. Amateur astronomers will have telescopes onsite so that participants can view various heavenly bodies. If you have a telescope\, please bring it along. This program is weather dependent so if it is raining please check back here. The Apple River State Bank/First Community Bank of Galena is a proud sponsor of this event.
URL:https://jdcf.org/event/meteors-on-the-mound/
LOCATION:Horseshoe Mound Preserve\, 1679 N Blackjack Road\, Galena\, IL\, 61036
ATTACH;FMTTYPE=image/jpeg:https://jdcf.org/wp-content/uploads/2025/07/PXL_20240811_010831638-scaled.jpg
END:VEVENT
END:VCALENDAR