BEGIN:VCALENDAR
VERSION:2.0
PRODID:-//Jo Daviess Conservation Foundation - ECPv6.15.20//NONSGML v1.0//EN
CALSCALE:GREGORIAN
METHOD:PUBLISH
X-ORIGINAL-URL:https://jdcf.org
X-WR-CALDESC:Events for Jo Daviess Conservation Foundation
REFRESH-INTERVAL;VALUE=DURATION:PT1H
X-Robots-Tag:noindex
X-PUBLISHED-TTL:PT1H
BEGIN:VTIMEZONE
TZID:UTC
BEGIN:STANDARD
TZOFFSETFROM:+0000
TZOFFSETTO:+0000
TZNAME:UTC
DTSTART:20240101T000000
END:STANDARD
END:VTIMEZONE
BEGIN:VEVENT
DTSTART;TZID=UTC:20250425T180000
DTEND;TZID=UTC:20250425T193000
DTSTAMP:20260419T182230
CREATED:20250121T175133Z
LAST-MODIFIED:20250121T181729Z
UID:10000216-1745604000-1745609400@jdcf.org
SUMMARY:Frog Walk on the Galena River Trail
DESCRIPTION:One of the first signs of spring is the sound of frogs waking up and calling. Join staff from JDCF at the Meeker Street Footbridge in downtown Galena for our annual frog walk. We will head down the Galena River Trail towards Buehler Reserve\, giving families a chance to try to find and catch the frogs themselves! Will it be a spring peeper or a leopard frog? JDCF staff will help you identify what you find\, and have some tadpoles on hand to view the frog life cycle in progress. Free and RSVPs not needed. Please dress appropriately for the weather. Rain date: May 3rd. Check back here for updates. This is a catch and release event.
URL:https://jdcf.org/event/frog-walk-on-the-galena-river-trail/
LOCATION:Meeker Street Footbridge\, 110 Meeker Street\, Galena\, Illinois
ATTACH;FMTTYPE=image/jpeg:https://jdcf.org/wp-content/uploads/2024/02/GreenFrogRM.jpg
END:VEVENT
END:VCALENDAR