BEGIN:VCALENDAR
VERSION:2.0
PRODID:-//Jo Daviess Conservation Foundation - ECPv6.15.20//NONSGML v1.0//EN
CALSCALE:GREGORIAN
METHOD:PUBLISH
X-WR-CALNAME:Jo Daviess Conservation Foundation
X-ORIGINAL-URL:https://jdcf.org
X-WR-CALDESC:Events for Jo Daviess Conservation Foundation
REFRESH-INTERVAL;VALUE=DURATION:PT1H
X-Robots-Tag:noindex
X-PUBLISHED-TTL:PT1H
BEGIN:VTIMEZONE
TZID:UTC
BEGIN:STANDARD
TZOFFSETFROM:+0000
TZOFFSETTO:+0000
TZNAME:UTC
DTSTART:20250101T000000
END:STANDARD
END:VTIMEZONE
BEGIN:VEVENT
DTSTART;TZID=UTC:20260725T180000
DTEND;TZID=UTC:20260725T230000
DTSTAMP:20260420T023632
CREATED:20251229T162627Z
LAST-MODIFIED:20260217T201142Z
UID:10000239-1785002400-1785020400@jdcf.org
SUMMARY:Weird & Wonderful Insects with The Field Museum
DESCRIPTION:You are invited to join Chicago Field Museum insect educators and scientists to see their amazing collections of local and non-local insects. There will also be insect displays collected by local entomologists on hand for viewing. \nLearn how to use a sweep net to see what weird and wonderful insects you can find in the early summer prairie. Stay after the sun goes down to see and learn about the moths and other winged bugs of the night that are drawn to a special lighted viewing sheet. Take away knowledge and wonder of the strange but beautiful biodiversity that calls northwest Illinois home. Free and RSVPs not required. This event is subject to weather related cancellations. Check back here for updates. \nThe Apple River State Bank/First Community Bank of Galena is a proud sponsor of this event.
URL:https://jdcf.org/event/weird-wonderful-insects-with-the-field-museum/
LOCATION:Casper Bluff Land & Water Reserve\, 870 South Pilot Knob Road\, Galena\, IL\, 61036
ATTACH;FMTTYPE=image/jpeg:https://jdcf.org/wp-content/uploads/2025/12/IMG_3047-scaled.jpg
END:VEVENT
END:VCALENDAR