BEGIN:VCALENDAR
VERSION:2.0
PRODID:-//Jo Daviess Conservation Foundation - ECPv6.15.20//NONSGML v1.0//EN
CALSCALE:GREGORIAN
METHOD:PUBLISH
X-WR-CALNAME:Jo Daviess Conservation Foundation
X-ORIGINAL-URL:https://jdcf.org
X-WR-CALDESC:Events for Jo Daviess Conservation Foundation
REFRESH-INTERVAL;VALUE=DURATION:PT1H
X-Robots-Tag:noindex
X-PUBLISHED-TTL:PT1H
BEGIN:VTIMEZONE
TZID:UTC
BEGIN:STANDARD
TZOFFSETFROM:+0000
TZOFFSETTO:+0000
TZNAME:UTC
DTSTART:20250101T000000
END:STANDARD
END:VTIMEZONE
BEGIN:VEVENT
DTSTART;TZID=UTC:20260416T160000
DTEND;TZID=UTC:20260416T183000
DTSTAMP:20260419T215250
CREATED:20260205T171620Z
LAST-MODIFIED:20260205T171636Z
UID:10000245-1776355200-1776364200@jdcf.org
SUMMARY:JDCF Annual Meeting
DESCRIPTION:Executive Director\, Steve Barg\, will address the membership on the eve of his retirement. Kay Weibel will be recognized as the recipient of the 2026 Nancy Hamill Winter Conservation Leadership Award.  Board Chair Alan Wenzel will recap JDCFs accomplishments over the past year and lead the election and re-election of board members.  Heavy appetizers and cash bar following one free drink ticket. $40/person payable in advance or at the door. RSVP to jean@jdcf.org by April 1\,
URL:https://jdcf.org/event/jdcf-annual-meetingexec/
LOCATION:Woodbine Bend Golf Course & Restaurant\, 3500 E Center Rd\, Stockton\, IL\, 61085
ATTACH;FMTTYPE=image/png:https://jdcf.org/wp-content/uploads/2026/02/SB-at-STF-2020.png
END:VEVENT
END:VCALENDAR