BEGIN:VCALENDAR
VERSION:2.0
PRODID:-//Jo Daviess Conservation Foundation - ECPv6.15.20//NONSGML v1.0//EN
CALSCALE:GREGORIAN
METHOD:PUBLISH
X-WR-CALNAME:Jo Daviess Conservation Foundation
X-ORIGINAL-URL:https://jdcf.org
X-WR-CALDESC:Events for Jo Daviess Conservation Foundation
REFRESH-INTERVAL;VALUE=DURATION:PT1H
X-Robots-Tag:noindex
X-PUBLISHED-TTL:PT1H
BEGIN:VTIMEZONE
TZID:UTC
BEGIN:STANDARD
TZOFFSETFROM:+0000
TZOFFSETTO:+0000
TZNAME:UTC
DTSTART:20250101T000000
END:STANDARD
END:VTIMEZONE
BEGIN:VEVENT
DTSTART;TZID=UTC:20260129T180000
DTEND;TZID=UTC:20260129T200000
DTSTAMP:20260419T232721
CREATED:20251201T194456Z
LAST-MODIFIED:20251202T155927Z
UID:10000234-1769709600-1769716800@jdcf.org
SUMMARY:Galena LitFest Event at Mąą Pįį
DESCRIPTION:Join JDCF and the Galena Public Library for Galena LitFest: The Work of Poetry with IL Poet Laureate Mark Turcotte in the historic Hess House at JDCF’s Mąą Pįį Preserve. \nIllinois Poet Laureate Mark Turcotte (Turtle Mountain Band Anishinaabe) will present a night of poetry and conversation in partnership with the Galena Public Library and the Jo Daviess Conservation Foundation. \nThis is a hybrid program. Mark Turcotte will present in-person at. Mąą Pįį in the historic Hess House. There is also the option to Zoom in and view the presentation virtually. The link for registration through Eventbrite is HERE: \nNamed in July 2025 as 6th Illinois Poet Laureate\, Mark Turcotte is the author of several books\, including The Feathered Heart and Exploding Chippewas. His work has appeared in many national and international literary journals and anthologies\, including the new and first ever Norton Anthology of Native Nations Poetry. His poem\, “Dear New Blood\,” was recently featured on the poetry podcast\, Poetry Unbound. He lives in Chicago\, and since 2009\, has been Senior Lecturer and Distinguished-Writer-In-Residence in the English Dept at DePaul University.
URL:https://jdcf.org/event/galena-litfest-event-at-maa-pii/
LOCATION:Hess House for Science and Culture\, 1221 N Ferry Landing Road\, Galena\, IL\, 61036\, United States
END:VEVENT
END:VCALENDAR