BEGIN:VCALENDAR
VERSION:2.0
PRODID:-//Jo Daviess Conservation Foundation - ECPv6.15.20//NONSGML v1.0//EN
CALSCALE:GREGORIAN
METHOD:PUBLISH
X-WR-CALNAME:Jo Daviess Conservation Foundation
X-ORIGINAL-URL:https://jdcf.org
X-WR-CALDESC:Events for Jo Daviess Conservation Foundation
REFRESH-INTERVAL;VALUE=DURATION:PT1H
X-Robots-Tag:noindex
X-PUBLISHED-TTL:PT1H
BEGIN:VTIMEZONE
TZID:UTC
BEGIN:STANDARD
TZOFFSETFROM:+0000
TZOFFSETTO:+0000
TZNAME:UTC
DTSTART:20250101T000000
END:STANDARD
END:VTIMEZONE
BEGIN:VEVENT
DTSTART;TZID=UTC:20260114T183000
DTEND;TZID=UTC:20260114T193000
DTSTAMP:20260419T163539
CREATED:20251020T175447Z
LAST-MODIFIED:20251125T154820Z
UID:10000230-1768415400-1768419000@jdcf.org
SUMMARY:"Conservation Conversation" - JDCF Book Club
DESCRIPTION:During our first session\, we will discuss\, via Zoom\, Shelter and Storm: At Home in the Driftless. Tamara Dean (2025). \nIf you are new to the book club\, please email club coordinator\, Jean Matthiessen\, at jean@jdcf.org to be placed on our email list to receive the Zoom link.  JDCF does not share\, sell\, or otherwise reveal any email\, phone\, address or other personal information of any individual stored in our donor or email databases. \nThe 2026 reading list can be found here: Three Books and Descriptions for Winter Book Club.
URL:https://jdcf.org/event/conservation-conversation-jdcf-book-club/
LOCATION:IL
ATTACH;FMTTYPE=image/png:https://jdcf.org/wp-content/uploads/2025/10/book-club-2-700-x-720-px.png
END:VEVENT
END:VCALENDAR